BEGIN:VCALENDAR
VERSION:2.0
PRODID:-//sa.investing.com//sa
CALSCALE:GREGORIAN
METHOD:PUBLISH
BEGIN:VEVENT
CLASS:PUBLIC
UID:webinar-/education/addToCalendar@sa.Investing.com
SUMMARY:sa.investing.com - 

DESCRIPTION:

X-ALT-DESC;FMTTYPE=text/html:<!DOCTYPE HTML><html><body dir="rtl"></bo
 dy></html>

DTSTART:
DTEND:
URL:https://sa.investing.com

LOCATION:https://sa.investing.com

BEGIN:VALARM
ACTION:DISPLAY
TRIGGER;RELATED=END:PT-5M
DESCRIPTION:Reminder
END:VALARM
END:VEVENT
END:VCALENDAR
